Package: borealis Version: 1.12.0 Command: /home/biocbuild/R/R/bin/R CMD check --install=check:borealis.install-out.txt --library=/home/biocbuild/R/R/site-library --no-vignettes --timings borealis_1.12.0.tar.gz StartedAt: 2025-10-14 07:00:38 -0000 (Tue, 14 Oct 2025) EndedAt: 2025-10-14 07:07:39 -0000 (Tue, 14 Oct 2025) EllapsedTime: 421.3 seconds RetCode: 0 Status: OK CheckDir: borealis.Rcheck Warnings: 0