Package: bnem Version: 1.16.0 Maintainer: Martin Pirkl MaintainerEmail: martinpirkl at yahoo.de git_url: https://git.bioconductor.org/packages/bnem git_branch: RELEASE_3_21 git_last_commit: 479b487 git_last_commit_date: 2025-04-15 12:15:48 -0400 (Tue, 15 Apr 2025)