Package: bnbc Version: 1.30.0 Command: chmod a+r bnbc -R && E:\biocbuild\bbs-3.21-bioc\R\bin\R.exe CMD build --keep-empty-dirs --no-resave-data bnbc StartedAt: 2025-08-14 17:44:22 -0400 (Thu, 14 Aug 2025) EndedAt: 2025-08-14 17:46:26 -0400 (Thu, 14 Aug 2025) EllapsedTime: 123.6 seconds RetCode: 0 Status: OK PackageFile: bnbc_1.30.0.tar.gz PackageFileSize: 4.152 MiB