Package: bnbc Version: 1.30.0 Command: /home/biocbuild/bbs-3.21-bioc/R/bin/R CMD INSTALL bnbc StartedAt: 2025-10-15 15:30:02 -0400 (Wed, 15 Oct 2025) EndedAt: 2025-10-15 15:30:45 -0400 (Wed, 15 Oct 2025) EllapsedTime: 43.1 seconds RetCode: 0 Status: OK