Package: bnbc Version: 1.30.0 Command: /Library/Frameworks/R.framework/Resources/bin/R CMD INSTALL bnbc StartedAt: 2025-10-13 15:56:11 -0400 (Mon, 13 Oct 2025) EndedAt: 2025-10-13 15:57:41 -0400 (Mon, 13 Oct 2025) EllapsedTime: 90.1 seconds RetCode: 0 Status: OK