Package: bnbc Version: 1.30.0 Command: /home/biocbuild/R/R/bin/R CMD INSTALL bnbc StartedAt: 2025-10-13 20:45:36 -0000 (Mon, 13 Oct 2025) EndedAt: 2025-10-13 20:46:38 -0000 (Mon, 13 Oct 2025) EllapsedTime: 62.2 seconds RetCode: 0 Status: OK