Package: bnbc Version: 1.30.0 Command: /Library/Frameworks/R.framework/Resources/bin/R CMD INSTALL bnbc StartedAt: 2025-04-21 15:17:16 -0400 (Mon, 21 Apr 2025) EndedAt: 2025-04-21 15:17:33 -0400 (Mon, 21 Apr 2025) EllapsedTime: 16.9 seconds RetCode: 0 Status: OK