Package: bnbc Version: 1.30.0 Command: /Library/Frameworks/R.framework/Resources/bin/R CMD build --keep-empty-dirs --no-resave-data bnbc StartedAt: 2025-10-13 20:15:14 -0400 (Mon, 13 Oct 2025) EndedAt: 2025-10-13 20:17:09 -0400 (Mon, 13 Oct 2025) EllapsedTime: 115.5 seconds RetCode: 0 Status: OK PackageFile: bnbc_1.30.0.tar.gz PackageFileSize: 4.152 MiB