Package: bnbc Version: 1.30.0 Command: rm -rf bnbc.buildbin-libdir && mkdir bnbc.buildbin-libdir && /Users/biocbuild/BBS/utils/build-universal.sh bnbc_1.30.0.tar.gz /Library/Frameworks/R.framework/Resources/bin/R bnbc.buildbin-libdir StartedAt: 2025-10-15 17:38:46 -0400 (Wed, 15 Oct 2025) EndedAt: 2025-10-15 17:39:41 -0400 (Wed, 15 Oct 2025) EllapsedTime: 55.3 seconds RetCode: 0 Status: OK PackageFile: bnbc_1.30.0.tgz PackageFileSize: 4.534 MiB