Package: bnbc Version: 1.30.0 Maintainer: Kipper Fletez-Brant MaintainerEmail: cafletezbrant at gmail.com git_url: https://git.bioconductor.org/packages/bnbc git_branch: RELEASE_3_21 git_last_commit: f992cfe git_last_commit_date: 2025-04-15 11:15:12 -0400 (Tue, 15 Apr 2025)