Package: bluster Version: 1.18.0 Command: /Library/Frameworks/R.framework/Resources/bin/R CMD check --install=check:bluster.install-out.txt --library=/Library/Frameworks/R.framework/Resources/library --no-vignettes --timings bluster_1.18.0.tar.gz StartedAt: 2025-10-10 15:11:25 -0400 (Fri, 10 Oct 2025) EndedAt: 2025-10-10 15:14:18 -0400 (Fri, 10 Oct 2025) EllapsedTime: 173.2 seconds RetCode: 0 Status: OK CheckDir: bluster.Rcheck Warnings: 0