Package: bluster Version: 1.18.0 Command: rm -rf bluster.buildbin-libdir && mkdir bluster.buildbin-libdir && /Users/biocbuild/BBS/utils/build-universal.sh bluster_1.18.0.tar.gz /Library/Frameworks/R.framework/Resources/bin/R bluster.buildbin-libdir StartedAt: 2025-10-11 19:15:56 -0400 (Sat, 11 Oct 2025) EndedAt: 2025-10-11 19:16:24 -0400 (Sat, 11 Oct 2025) EllapsedTime: 28.1 seconds RetCode: 0 Status: OK PackageFile: bluster_1.18.0.tgz PackageFileSize: 3.689 MiB