Package: biscuiteer Version: 1.22.0 Command: E:\biocbuild\bbs-3.21-bioc\R\bin\R.exe CMD check --no-multiarch --install=check:biscuiteer.install-out.txt --library=E:\biocbuild\bbs-3.21-bioc\R\library --no-vignettes --timings biscuiteer_1.22.0.tar.gz StartedAt: 2025-08-15 00:03:46 -0400 (Fri, 15 Aug 2025) EndedAt: 2025-08-15 00:15:45 -0400 (Fri, 15 Aug 2025) EllapsedTime: 719.5 seconds RetCode: 0 Status: WARNINGS CheckDir: biscuiteer.Rcheck Warnings: 1