Package: biscuiteer Version: 1.22.0 Command: rm -rf biscuiteer.buildbin-libdir && mkdir biscuiteer.buildbin-libdir && E:\biocbuild\bbs-3.21-bioc\R\bin\R.exe CMD INSTALL --build --library=biscuiteer.buildbin-libdir biscuiteer_1.22.0.tar.gz StartedAt: 2025-08-15 08:52:58 -0400 (Fri, 15 Aug 2025) EndedAt: 2025-08-15 08:54:53 -0400 (Fri, 15 Aug 2025) EllapsedTime: 114.5 seconds RetCode: 0 Status: OK PackageFile: biscuiteer_1.22.0.zip PackageFileSize: 5.206 MiB