Package: biscuiteer Version: 1.22.0 Command: /home/biocbuild/bbs-3.21-bioc/R/bin/R CMD INSTALL biscuiteer StartedAt: 2025-10-15 15:58:51 -0400 (Wed, 15 Oct 2025) EndedAt: 2025-10-15 15:59:59 -0400 (Wed, 15 Oct 2025) EllapsedTime: 68.1 seconds RetCode: 0 Status: OK