Package: biscuiteer Version: 1.22.0 Command: /Library/Frameworks/R.framework/Resources/bin/R CMD INSTALL biscuiteer StartedAt: 2025-10-13 16:48:43 -0400 (Mon, 13 Oct 2025) EndedAt: 2025-10-13 16:51:08 -0400 (Mon, 13 Oct 2025) EllapsedTime: 144.9 seconds RetCode: 0 Status: OK