Package: biscuiteer Version: 1.22.0 Command: /Library/Frameworks/R.framework/Resources/bin/R CMD check --install=check:biscuiteer.install-out.txt --library=/Library/Frameworks/R.framework/Resources/library --no-vignettes --timings biscuiteer_1.22.0.tar.gz StartedAt: 2025-04-21 18:24:37 -0400 (Mon, 21 Apr 2025) EndedAt: 2025-04-21 18:28:20 -0400 (Mon, 21 Apr 2025) EllapsedTime: 222.9 seconds RetCode: 0 Status: WARNINGS CheckDir: biscuiteer.Rcheck Warnings: 1