Package: biscuiteer Version: 1.22.0 Command: /Library/Frameworks/R.framework/Resources/bin/R CMD check --install=check:biscuiteer.install-out.txt --library=/Library/Frameworks/R.framework/Resources/library --no-vignettes --timings biscuiteer_1.22.0.tar.gz StartedAt: 2025-10-14 14:31:29 -0400 (Tue, 14 Oct 2025) EndedAt: 2025-10-14 14:42:38 -0400 (Tue, 14 Oct 2025) EllapsedTime: 669.1 seconds RetCode: 0 Status: WARNINGS CheckDir: biscuiteer.Rcheck Warnings: 1