Package: biomvRCNS Version: 1.48.0 Command: /Library/Frameworks/R.framework/Resources/bin/R CMD INSTALL biomvRCNS StartedAt: 2025-10-13 16:27:53 -0400 (Mon, 13 Oct 2025) EndedAt: 2025-10-13 16:29:47 -0400 (Mon, 13 Oct 2025) EllapsedTime: 114.0 seconds RetCode: 0 Status: OK