Package: biomvRCNS Version: 1.48.0 Command: /Library/Frameworks/R.framework/Resources/bin/R CMD check --install=check:biomvRCNS.install-out.txt --library=/Library/Frameworks/R.framework/Resources/library --no-vignettes --timings biomvRCNS_1.48.0.tar.gz StartedAt: 2025-10-14 00:41:47 -0400 (Tue, 14 Oct 2025) EndedAt: 2025-10-14 00:55:14 -0400 (Tue, 14 Oct 2025) EllapsedTime: 807.6 seconds RetCode: 0 Status: OK CheckDir: biomvRCNS.Rcheck Warnings: 0