Package: biomvRCNS Version: 1.48.0 Command: /Library/Frameworks/R.framework/Resources/bin/R CMD INSTALL biomvRCNS StartedAt: 2025-10-13 17:48:45 -0400 (Mon, 13 Oct 2025) EndedAt: 2025-10-13 17:49:49 -0400 (Mon, 13 Oct 2025) EllapsedTime: 64.0 seconds RetCode: 0 Status: OK