Package: biomvRCNS Version: 1.48.0 Command: /Library/Frameworks/R.framework/Resources/bin/R CMD build --keep-empty-dirs --no-resave-data biomvRCNS StartedAt: 2025-10-13 20:05:50 -0400 (Mon, 13 Oct 2025) EndedAt: 2025-10-13 20:08:06 -0400 (Mon, 13 Oct 2025) EllapsedTime: 135.8 seconds RetCode: 0 Status: OK PackageFile: biomvRCNS_1.48.0.tar.gz PackageFileSize: 806.6 KiB