Package: biomformat Version: 1.36.0 Command: /Library/Frameworks/R.framework/Resources/bin/R CMD check --install=check:biomformat.install-out.txt --library=/Library/Frameworks/R.framework/Resources/library --no-vignettes --timings biomformat_1.36.0.tar.gz StartedAt: 2025-10-07 00:39:29 -0400 (Tue, 07 Oct 2025) EndedAt: 2025-10-07 00:41:06 -0400 (Tue, 07 Oct 2025) EllapsedTime: 97.1 seconds RetCode: 0 Status: OK CheckDir: biomformat.Rcheck Warnings: 0