Package: biomformat Version: 1.36.0 Command: /home/biocbuild/R/R/bin/R CMD INSTALL biomformat StartedAt: 2025-10-13 20:20:04 -0000 (Mon, 13 Oct 2025) EndedAt: 2025-10-13 20:20:13 -0000 (Mon, 13 Oct 2025) EllapsedTime: 8.9 seconds RetCode: 0 Status: OK