Package: biomformat Version: 1.36.0 Command: /Library/Frameworks/R.framework/Resources/bin/R CMD INSTALL biomformat StartedAt: 2025-10-06 15:15:04 -0400 (Mon, 06 Oct 2025) EndedAt: 2025-10-06 15:15:12 -0400 (Mon, 06 Oct 2025) EllapsedTime: 8.1 seconds RetCode: 0 Status: OK