Package: biomaRt Version: 2.64.0 Command: rm -rf biomaRt.buildbin-libdir && mkdir biomaRt.buildbin-libdir && E:\biocbuild\bbs-3.21-bioc\R\bin\R.exe CMD INSTALL --build --library=biomaRt.buildbin-libdir biomaRt_2.64.0.tar.gz StartedAt: 2025-08-15 08:52:13 -0400 (Fri, 15 Aug 2025) EndedAt: 2025-08-15 08:53:04 -0400 (Fri, 15 Aug 2025) EllapsedTime: 51.1 seconds RetCode: 0 Status: OK PackageFile: biomaRt_2.64.0.zip PackageFileSize: 936 KiB