Package: biomaRt Version: 2.64.0 Command: /Library/Frameworks/R.framework/Resources/bin/R CMD build --keep-empty-dirs --no-resave-data biomaRt StartedAt: 2025-10-13 17:27:02 -0400 (Mon, 13 Oct 2025) EndedAt: 2025-10-13 17:29:19 -0400 (Mon, 13 Oct 2025) EllapsedTime: 136.9 seconds RetCode: 0 Status: OK PackageFile: biomaRt_2.64.0.tar.gz PackageFileSize: 842.4 KiB