Package: biodbUniprot Version: 1.14.0 Command: E:\biocbuild\bbs-3.21-bioc\R\bin\R.exe CMD check --no-multiarch --install=check:biodbUniprot.install-out.txt --library=E:\biocbuild\bbs-3.21-bioc\R\library --no-vignettes --timings biodbUniprot_1.14.0.tar.gz StartedAt: 2025-08-14 23:55:31 -0400 (Thu, 14 Aug 2025) EndedAt: 2025-08-15 00:03:29 -0400 (Fri, 15 Aug 2025) EllapsedTime: 477.5 seconds RetCode: 0 Status: OK CheckDir: biodbUniprot.Rcheck Warnings: 0