Package: biodbUniprot Version: 1.14.0 Command: /home/biocbuild/bbs-3.21-bioc/R/bin/R CMD INSTALL biodbUniprot StartedAt: 2025-10-08 15:11:08 -0400 (Wed, 08 Oct 2025) EndedAt: 2025-10-08 15:11:15 -0400 (Wed, 08 Oct 2025) EllapsedTime: 6.6 seconds RetCode: 0 Status: OK