Package: biodbUniprot Version: 1.14.0 Command: /home/biocbuild/bbs-3.21-bioc/R/bin/R CMD build --keep-empty-dirs --no-resave-data biodbUniprot StartedAt: 2025-10-08 16:27:34 -0400 (Wed, 08 Oct 2025) EndedAt: 2025-10-08 16:27:45 -0400 (Wed, 08 Oct 2025) EllapsedTime: 11.0 seconds RetCode: 1 Status: ERROR PackageFile: None PackageFileSize: NA