Package: biodbUniprot Version: 1.14.0 Command: rm -rf biodbUniprot.buildbin-libdir && mkdir biodbUniprot.buildbin-libdir && /Users/biocbuild/BBS/utils/build-universal.sh biodbUniprot_1.14.0.tar.gz /Library/Frameworks/R.framework/Resources/bin/R biodbUniprot.buildbin-libdir StartedAt: 2025-04-22 00:35:29 -0400 (Tue, 22 Apr 2025) EndedAt: 2025-04-22 00:35:44 -0400 (Tue, 22 Apr 2025) EllapsedTime: 15.1 seconds RetCode: 0 Status: OK PackageFile: biodbUniprot_1.14.0.tgz PackageFileSize: 493.9 KiB