Package: biodbUniprot Version: 1.14.0 Command: /home/biocbuild/R/R/bin/R CMD check --install=check:biodbUniprot.install-out.txt --library=/home/biocbuild/R/R/site-library --no-vignettes --timings biodbUniprot_1.14.0.tar.gz StartedAt: 2025-09-26 08:23:15 -0000 (Fri, 26 Sep 2025) EndedAt: 2025-09-26 08:35:32 -0000 (Fri, 26 Sep 2025) EllapsedTime: 737.1 seconds RetCode: 0 Status: OK CheckDir: biodbUniprot.Rcheck Warnings: 0