Package: biodbUniprot Version: 1.14.0 Command: /Library/Frameworks/R.framework/Resources/bin/R CMD check --install=check:biodbUniprot.install-out.txt --library=/Library/Frameworks/R.framework/Resources/library --no-vignettes --timings biodbUniprot_1.14.0.tar.gz StartedAt: 2025-04-21 18:22:49 -0400 (Mon, 21 Apr 2025) EndedAt: 2025-04-21 18:24:07 -0400 (Mon, 21 Apr 2025) EllapsedTime: 78.1 seconds RetCode: 0 Status: OK CheckDir: biodbUniprot.Rcheck Warnings: 0