Package: biodbUniprot Version: 1.14.0 Command: /Library/Frameworks/R.framework/Resources/bin/R CMD check --install=check:biodbUniprot.install-out.txt --library=/Library/Frameworks/R.framework/Resources/library --no-vignettes --timings biodbUniprot_1.14.0.tar.gz StartedAt: 2025-09-26 14:05:08 -0400 (Fri, 26 Sep 2025) EndedAt: 2025-09-26 14:06:26 -0400 (Fri, 26 Sep 2025) EllapsedTime: 78.3 seconds RetCode: 0 Status: OK CheckDir: biodbUniprot.Rcheck Warnings: 0