Package: biodbUniprot Version: 1.14.0 Command: /Library/Frameworks/R.framework/Resources/bin/R CMD build --keep-empty-dirs --no-resave-data biodbUniprot StartedAt: 2025-10-06 20:14:55 -0400 (Mon, 06 Oct 2025) EndedAt: 2025-10-06 20:15:10 -0400 (Mon, 06 Oct 2025) EllapsedTime: 14.9 seconds RetCode: 1 Status: ERROR PackageFile: None PackageFileSize: NA