Package: biodbNci Version: 1.12.0 Command: /Library/Frameworks/R.framework/Resources/bin/R CMD INSTALL biodbNci StartedAt: 2025-10-13 15:30:01 -0400 (Mon, 13 Oct 2025) EndedAt: 2025-10-13 15:30:29 -0400 (Mon, 13 Oct 2025) EllapsedTime: 27.8 seconds RetCode: 0 Status: OK