Package: biodbNci Version: 1.12.0 Command: /Library/Frameworks/R.framework/Resources/bin/R CMD build --keep-empty-dirs --no-resave-data biodbNci StartedAt: 2025-10-13 20:04:40 -0400 (Mon, 13 Oct 2025) EndedAt: 2025-10-13 20:05:15 -0400 (Mon, 13 Oct 2025) EllapsedTime: 34.2 seconds RetCode: 1 Status: ERROR PackageFile: None PackageFileSize: NA