Package: biodbNci Version: 1.12.0 Command: rm -rf biodbNci.buildbin-libdir && mkdir biodbNci.buildbin-libdir && /Users/biocbuild/BBS/utils/build-universal.sh biodbNci_1.12.0.tar.gz /Library/Frameworks/R.framework/Resources/bin/R biodbNci.buildbin-libdir StartedAt: 2025-09-27 16:36:56 -0400 (Sat, 27 Sep 2025) EndedAt: 2025-09-27 16:37:29 -0400 (Sat, 27 Sep 2025) EllapsedTime: 33.0 seconds RetCode: 0 Status: OK PackageFile: biodbNci_1.12.0.tgz PackageFileSize: 589.8 KiB