Package: biodbNcbi Version: 1.12.0 Command: /Library/Frameworks/R.framework/Resources/bin/R CMD check --install=check:biodbNcbi.install-out.txt --library=/Library/Frameworks/R.framework/Resources/library --no-vignettes --timings biodbNcbi_1.12.0.tar.gz StartedAt: 2025-09-26 00:41:05 -0400 (Fri, 26 Sep 2025) EndedAt: 2025-09-26 00:44:15 -0400 (Fri, 26 Sep 2025) EllapsedTime: 190.5 seconds RetCode: 0 Status: OK CheckDir: biodbNcbi.Rcheck Warnings: 0