Package: biodbNcbi Version: 1.12.0 Command: /Library/Frameworks/R.framework/Resources/bin/R CMD build --keep-empty-dirs --no-resave-data biodbNcbi StartedAt: 2025-04-21 16:05:36 -0400 (Mon, 21 Apr 2025) EndedAt: 2025-04-21 16:06:06 -0400 (Mon, 21 Apr 2025) EllapsedTime: 29.8 seconds RetCode: 0 Status: OK PackageFile: biodbNcbi_1.12.0.tar.gz PackageFileSize: 733.5 KiB