Package: biodbNcbi Version: 1.12.0 Command: /Library/Frameworks/R.framework/Resources/bin/R CMD INSTALL biodbNcbi StartedAt: 2025-10-13 15:29:54 -0400 (Mon, 13 Oct 2025) EndedAt: 2025-10-13 15:30:09 -0400 (Mon, 13 Oct 2025) EllapsedTime: 15.6 seconds RetCode: 0 Status: OK