Package: biodbHmdb Version: 1.14.0 Command: /home/biocbuild/bbs-3.21-bioc/R/bin/R CMD INSTALL biodbHmdb StartedAt: 2025-10-15 15:10:28 -0400 (Wed, 15 Oct 2025) EndedAt: 2025-10-15 15:11:06 -0400 (Wed, 15 Oct 2025) EllapsedTime: 38.7 seconds RetCode: 0 Status: OK