Package: biodbHmdb Version: 1.14.0 Command: /Library/Frameworks/R.framework/Resources/bin/R CMD check --install=check:biodbHmdb.install-out.txt --library=/Library/Frameworks/R.framework/Resources/library --no-vignettes --timings biodbHmdb_1.14.0.tar.gz StartedAt: 2025-09-26 00:40:48 -0400 (Fri, 26 Sep 2025) EndedAt: 2025-09-26 00:42:50 -0400 (Fri, 26 Sep 2025) EllapsedTime: 122.7 seconds RetCode: 0 Status: WARNINGS CheckDir: biodbHmdb.Rcheck Warnings: 1