Package: biodbHmdb Version: 1.14.0 Command: /Library/Frameworks/R.framework/Resources/bin/R CMD build --keep-empty-dirs --no-resave-data biodbHmdb StartedAt: 2025-10-13 17:26:08 -0400 (Mon, 13 Oct 2025) EndedAt: 2025-10-13 17:27:43 -0400 (Mon, 13 Oct 2025) EllapsedTime: 94.9 seconds RetCode: 1 Status: ERROR PackageFile: None PackageFileSize: NA