Package: biodbHmdb Version: 1.14.0 Command: rm -rf biodbHmdb.buildbin-libdir && mkdir biodbHmdb.buildbin-libdir && /Users/biocbuild/BBS/utils/build-universal.sh biodbHmdb_1.14.0.tar.gz /Library/Frameworks/R.framework/Resources/bin/R biodbHmdb.buildbin-libdir StartedAt: 2025-09-26 13:00:40 -0400 (Fri, 26 Sep 2025) EndedAt: 2025-09-26 13:02:17 -0400 (Fri, 26 Sep 2025) EllapsedTime: 97.2 seconds RetCode: 0 Status: OK PackageFile: biodbHmdb_1.14.0.tgz PackageFileSize: 694.8 KiB