Package: biodbHmdb Version: 1.14.0 Command: /Library/Frameworks/R.framework/Resources/bin/R CMD check --install=check:biodbHmdb.install-out.txt --library=/Library/Frameworks/R.framework/Resources/library --no-vignettes --timings biodbHmdb_1.14.0.tar.gz StartedAt: 2025-04-21 19:21:11 -0400 (Mon, 21 Apr 2025) EndedAt: 2025-04-21 19:22:20 -0400 (Mon, 21 Apr 2025) EllapsedTime: 69.0 seconds RetCode: 0 Status: WARNINGS CheckDir: biodbHmdb.Rcheck Warnings: 1