Package: biodbHmdb Version: 1.14.0 Command: /home/biocbuild/R/R/bin/R CMD check --install=check:biodbHmdb.install-out.txt --library=/home/biocbuild/R/R/site-library --no-vignettes --timings biodbHmdb_1.14.0.tar.gz StartedAt: 2025-09-26 08:21:37 -0000 (Fri, 26 Sep 2025) EndedAt: 2025-09-26 08:36:34 -0000 (Fri, 26 Sep 2025) EllapsedTime: 897.1 seconds RetCode: 0 Status: WARNINGS CheckDir: biodbHmdb.Rcheck Warnings: 2