Package: biodbHmdb Version: 1.14.0 Command: /Library/Frameworks/R.framework/Resources/bin/R CMD INSTALL biodbHmdb StartedAt: 2025-10-13 15:29:56 -0400 (Mon, 13 Oct 2025) EndedAt: 2025-10-13 15:30:39 -0400 (Mon, 13 Oct 2025) EllapsedTime: 42.6 seconds RetCode: 0 Status: OK