Package: biodbChebi Version: 1.14.0 Command: chmod a+r biodbChebi -R && E:\biocbuild\bbs-3.21-bioc\R\bin\R.exe CMD build --keep-empty-dirs --no-resave-data biodbChebi StartedAt: 2025-08-14 17:40:27 -0400 (Thu, 14 Aug 2025) EndedAt: 2025-08-14 17:43:10 -0400 (Thu, 14 Aug 2025) EllapsedTime: 163.5 seconds RetCode: 0 Status: OK PackageFile: biodbChebi_1.14.0.tar.gz PackageFileSize: 312.2 KiB