Package: biodbChebi Version: 1.14.0 Command: /home/biocbuild/bbs-3.21-bioc/R/bin/R CMD check --install=check:biodbChebi.install-out.txt --library=/home/biocbuild/bbs-3.21-bioc/R/site-library --timings biodbChebi_1.14.0.tar.gz StartedAt: 2025-09-28 21:24:55 -0400 (Sun, 28 Sep 2025) EndedAt: 2025-09-28 21:26:55 -0400 (Sun, 28 Sep 2025) EllapsedTime: 120.3 seconds RetCode: 1 Status: ERROR CheckDir: biodbChebi.Rcheck Warnings: NA